BEGIN:VCALENDAR
VERSION:2.0
PRODID:-//Nynäshamns OK - ECPv6.15.20//NONSGML v1.0//EN
CALSCALE:GREGORIAN
METHOD:PUBLISH
X-ORIGINAL-URL:https://nynok.se
X-WR-CALDESC:Händelser för Nynäshamns OK
REFRESH-INTERVAL;VALUE=DURATION:PT1H
X-Robots-Tag:noindex
X-PUBLISHED-TTL:PT1H
BEGIN:VTIMEZONE
TZID:Europe/Stockholm
BEGIN:DAYLIGHT
TZOFFSETFROM:+0100
TZOFFSETTO:+0200
TZNAME:CEST
DTSTART:20240331T010000
END:DAYLIGHT
BEGIN:STANDARD
TZOFFSETFROM:+0200
TZOFFSETTO:+0100
TZNAME:CET
DTSTART:20241027T010000
END:STANDARD
BEGIN:DAYLIGHT
TZOFFSETFROM:+0100
TZOFFSETTO:+0200
TZNAME:CEST
DTSTART:20250330T010000
END:DAYLIGHT
BEGIN:STANDARD
TZOFFSETFROM:+0200
TZOFFSETTO:+0100
TZNAME:CET
DTSTART:20251026T010000
END:STANDARD
BEGIN:DAYLIGHT
TZOFFSETFROM:+0100
TZOFFSETTO:+0200
TZNAME:CEST
DTSTART:20260329T010000
END:DAYLIGHT
BEGIN:STANDARD
TZOFFSETFROM:+0200
TZOFFSETTO:+0100
TZNAME:CET
DTSTART:20261025T010000
END:STANDARD
END:VTIMEZONE
BEGIN:VEVENT
DTSTART;TZID=Europe/Stockholm:20250402T180000
DTEND;TZID=Europe/Stockholm:20250402T180000
DTSTAMP:20260423T132032
CREATED:20250214T191932Z
LAST-MODIFIED:20250326T173344Z
UID:2087-1743616800-1743616800@nynok.se
SUMMARY:Ungdomsträning Lövhagen
DESCRIPTION:Vårens första onsdagsträning för ungdomar. Samling vid parkeringen Lövhagen. \nBåde de som orienterat förut och nybörjare välkomna! Lämplig ålder från ca 8 år och uppåt.
URL:https://nynok.se/event/ungdomstraning-4/
END:VEVENT
END:VCALENDAR