BEGIN:VCALENDAR
VERSION:2.0
PRODID:-//Nynäshamns OK - ECPv6.15.20//NONSGML v1.0//EN
CALSCALE:GREGORIAN
METHOD:PUBLISH
X-ORIGINAL-URL:https://nynok.se
X-WR-CALDESC:Händelser för Nynäshamns OK
REFRESH-INTERVAL;VALUE=DURATION:PT1H
X-Robots-Tag:noindex
X-PUBLISHED-TTL:PT1H
BEGIN:VTIMEZONE
TZID:Europe/Stockholm
BEGIN:DAYLIGHT
TZOFFSETFROM:+0100
TZOFFSETTO:+0200
TZNAME:CEST
DTSTART:20240331T010000
END:DAYLIGHT
BEGIN:STANDARD
TZOFFSETFROM:+0200
TZOFFSETTO:+0100
TZNAME:CET
DTSTART:20241027T010000
END:STANDARD
BEGIN:DAYLIGHT
TZOFFSETFROM:+0100
TZOFFSETTO:+0200
TZNAME:CEST
DTSTART:20250330T010000
END:DAYLIGHT
BEGIN:STANDARD
TZOFFSETFROM:+0200
TZOFFSETTO:+0100
TZNAME:CET
DTSTART:20251026T010000
END:STANDARD
BEGIN:DAYLIGHT
TZOFFSETFROM:+0100
TZOFFSETTO:+0200
TZNAME:CEST
DTSTART:20260329T010000
END:DAYLIGHT
BEGIN:STANDARD
TZOFFSETFROM:+0200
TZOFFSETTO:+0100
TZNAME:CET
DTSTART:20261025T010000
END:STANDARD
BEGIN:DAYLIGHT
TZOFFSETFROM:+0100
TZOFFSETTO:+0200
TZNAME:CEST
DTSTART:20270328T010000
END:DAYLIGHT
BEGIN:STANDARD
TZOFFSETFROM:+0200
TZOFFSETTO:+0100
TZNAME:CET
DTSTART:20271031T010000
END:STANDARD
END:VTIMEZONE
BEGIN:VEVENT
DTSTART;TZID=Europe/Stockholm:20250928T100000
DTEND;TZID=Europe/Stockholm:20250928T100000
DTSTAMP:20260423T132040
CREATED:20250806T185516Z
LAST-MODIFIED:20250806T185516Z
UID:2335-1759053600-1759053600@nynok.se
SUMMARY:Ungdomsserien final
DESCRIPTION:
URL:https://nynok.se/event/ungdomsserien-final/
END:VEVENT
BEGIN:VEVENT
DTSTART;TZID=Europe/Stockholm:20251001T173000
DTEND;TZID=Europe/Stockholm:20251001T173000
DTSTAMP:20260423T132040
CREATED:20250811T184550Z
LAST-MODIFIED:20250921T083131Z
UID:2350-1759339800-1759339800@nynok.se
SUMMARY:Ungdomsträning + klubbträning Kvarnängen
DESCRIPTION:Samling 17:30 (observera tiden! Det blir mörkt tidigt!) \nVi håller till nedanför f.d. slalombacken och det blir stjärnorientering\, dvs ett antal kortare banor som utgår från samma plats. Man springer så många banor som man vill och hinner med. Det kommer att finnas både lätta och svåra banor.
URL:https://nynok.se/event/ungdomstraning-klubbtraning-kvarnangen/
END:VEVENT
BEGIN:VEVENT
DTSTART;TZID=Europe/Stockholm:20251004T100000
DTEND;TZID=Europe/Stockholm:20251004T100000
DTSTAMP:20260423T132040
CREATED:20250811T183857Z
LAST-MODIFIED:20250811T183857Z
UID:2342-1759572000-1759572000@nynok.se
SUMMARY:Skogluffarna långdistans
DESCRIPTION:https://eventor.orientering.se/Events/Show/51720
URL:https://nynok.se/event/skogluffarna-langdistans/
END:VEVENT
BEGIN:VEVENT
DTSTART;TZID=Europe/Stockholm:20251005T100000
DTEND;TZID=Europe/Stockholm:20251005T100000
DTSTAMP:20260423T132040
CREATED:20250811T184013Z
LAST-MODIFIED:20250811T184013Z
UID:2344-1759658400-1759658400@nynok.se
SUMMARY:Gålömedeln
DESCRIPTION:https://eventor.orientering.se/Events/Show/51719
URL:https://nynok.se/event/galomedeln/
END:VEVENT
BEGIN:VEVENT
DTSTART;TZID=Europe/Stockholm:20251008T180000
DTEND;TZID=Europe/Stockholm:20251008T180000
DTSTAMP:20260423T132040
CREATED:20250811T184640Z
LAST-MODIFIED:20251005T174631Z
UID:2352-1759946400-1759946400@nynok.se
SUMMARY:Ungdomsträning + klubbträning natt\, Gymnasiet
DESCRIPTION:Nattorientering som utgår från parkeringen vid gymnasiet. Solen går ned 18:02. Skymning i början av passet och sedan blir det mörkt! Pannlampa eller annan lampa kommer att behövas. \nBanorna går i området runt gymnasiet och Kvarnängen.
URL:https://nynok.se/event/ungdomstraning-klubbtraning-natt-gymnasiet/
END:VEVENT
BEGIN:VEVENT
DTSTART;TZID=Europe/Stockholm:20251011T090000
DTEND;TZID=Europe/Stockholm:20251011T090000
DTSTAMP:20260423T132040
CREATED:20250811T184307Z
LAST-MODIFIED:20250811T184307Z
UID:2347-1760173200-1760173200@nynok.se
SUMMARY:25-manna
DESCRIPTION:Välkomna till 25manna Kungens Kurva 2026
URL:https://nynok.se/event/25-manna-2/
END:VEVENT
BEGIN:VEVENT
DTSTART;TZID=Europe/Stockholm:20251015T180000
DTEND;TZID=Europe/Stockholm:20251015T180000
DTSTAMP:20260423T132040
CREATED:20251012T151053Z
LAST-MODIFIED:20251012T151053Z
UID:2383-1760551200-1760551200@nynok.se
SUMMARY:Onsdagsträning
DESCRIPTION:Löpning med karta\, mestadels gång- och cykelvägar i stan. \nVi utgår från Kvarnängen och samlas framför innebandyhallen\, redo att springa iväg\, kl 18:00. \nReflexväst eller liknande obligatoriskt. Pannlampa rekommenderas.
URL:https://nynok.se/event/onsdagstraning/
END:VEVENT
BEGIN:VEVENT
DTSTART;TZID=Europe/Stockholm:20251022T180000
DTEND;TZID=Europe/Stockholm:20251022T180000
DTSTAMP:20260423T132040
CREATED:20251012T151222Z
LAST-MODIFIED:20251012T151222Z
UID:2385-1761156000-1761156000@nynok.se
SUMMARY:Onsdagsträning
DESCRIPTION:Löpning med karta\, mestadels gång- och cykelvägar i stan. \nVi utgår från Kvarnängen och samlas framför innebandyhallen\, redo att springa iväg\, kl 18:00. \nReflexväst eller liknande obligatoriskt. Pannlampa rekommenderas.
URL:https://nynok.se/event/onsdagstraning-2/
END:VEVENT
BEGIN:VEVENT
DTSTART;TZID=Europe/Stockholm:20251105T180000
DTEND;TZID=Europe/Stockholm:20251105T180000
DTSTAMP:20260423T132040
CREATED:20251012T151258Z
LAST-MODIFIED:20251026T124817Z
UID:2387-1762365600-1762365600@nynok.se
SUMMARY:Onsdagsträning
DESCRIPTION:Löpning med karta\, mestadels gång- och cykelvägar i stan. \nVi utgår från Kvarnängen och samlas framför innebandyhallen\, redo att springa iväg\, kl 18:00. \nReflexväst eller liknande obligatoriskt. Pannlampa rekommenderas.
URL:https://nynok.se/event/onsdagstraning-3/
END:VEVENT
BEGIN:VEVENT
DTSTART;TZID=Europe/Stockholm:20251112T180000
DTEND;TZID=Europe/Stockholm:20251112T180000
DTSTAMP:20260423T132040
CREATED:20251026T124940Z
LAST-MODIFIED:20251026T124940Z
UID:2391-1762970400-1762970400@nynok.se
SUMMARY:Onsdagsträning
DESCRIPTION:Löpning med karta\, mestadels gång- och cykelvägar i stan. \nVi utgår från Kvarnängen och samlas framför innebandyhallen\, redo att springa iväg\, kl 18:00. \nReflexväst eller liknande obligatoriskt. Pannlampa rekommenderas.
URL:https://nynok.se/event/onsdagstraning-4/
END:VEVENT
BEGIN:VEVENT
DTSTART;TZID=Europe/Stockholm:20251119T180000
DTEND;TZID=Europe/Stockholm:20251119T180000
DTSTAMP:20260423T132040
CREATED:20251115T131123Z
LAST-MODIFIED:20251115T131123Z
UID:2394-1763575200-1763575200@nynok.se
SUMMARY:Onsdagsträning
DESCRIPTION:Löpning med karta\, mestadels gång- och cykelvägar i stan. \nVi utgår från Kvarnängen och samlas framför innebandyhallen\, redo att springa iväg\, kl 18:00. \nReflexväst eller liknande obligatoriskt. Pannlampa rekommenderas.
URL:https://nynok.se/event/onsdagstraning-5/
END:VEVENT
BEGIN:VEVENT
DTSTART;TZID=Europe/Stockholm:20251130T110000
DTEND;TZID=Europe/Stockholm:20251130T110000
DTSTAMP:20260423T132040
CREATED:20251115T131205Z
LAST-MODIFIED:20251124T193741Z
UID:2396-1764500400-1764500400@nynok.se
SUMMARY:Klubbträning Ösmo
DESCRIPTION:Samling vid Ösmo centrum. Det blir banor i och i utkanten av samhället\, men på vanlig karta (skala 1: 7 500). Fyra olika banor\, från vit nivå och uppåt så det finns något för alla. \n 
URL:https://nynok.se/event/klubbtraning-7/
END:VEVENT
BEGIN:VEVENT
DTSTART;TZID=Europe/Stockholm:20251214T110000
DTEND;TZID=Europe/Stockholm:20251214T110000
DTSTAMP:20260423T132040
CREATED:20251116T194827Z
LAST-MODIFIED:20251210T190612Z
UID:2402-1765710000-1765710000@nynok.se
SUMMARY:Klubbträning Estö/Gröndalsviken
DESCRIPTION:Samling\, start och mål vid Gröndalsviken. \nBanorna går vid Estö\, så det blir stadsorientering med skogsinslag. Som vanligt banor för alla nivåer. Fyra alternativ mellan ca 2 och 5 km.
URL:https://nynok.se/event/klubbtraning-nynashamn/
END:VEVENT
BEGIN:VEVENT
DTSTART;TZID=Europe/Stockholm:20260111T110000
DTEND;TZID=Europe/Stockholm:20260111T110000
DTSTAMP:20260423T132040
CREATED:20251215T180754Z
LAST-MODIFIED:20260105T101947Z
UID:2411-1768129200-1768129200@nynok.se
SUMMARY:Klubbträning - inställd pga snö
DESCRIPTION:Enligt prognosen ser det ut som att det kommer att ligga djup snö\, så vi ställer in detta tillfälle
URL:https://nynok.se/event/klubbtraning-8/
END:VEVENT
BEGIN:VEVENT
DTSTART;TZID=Europe/Stockholm:20260125T110000
DTEND;TZID=Europe/Stockholm:20260125T110000
DTSTAMP:20260423T132040
CREATED:20260105T102202Z
LAST-MODIFIED:20260123T131547Z
UID:2418-1769338800-1769338800@nynok.se
SUMMARY:Klubbträning Lövhagen INSTÄLLT
DESCRIPTION:Vi ställer in denna träning pga snö och kallväder.
URL:https://nynok.se/event/klubbtraning-toro-sten/
END:VEVENT
BEGIN:VEVENT
DTSTART;TZID=Europe/Stockholm:20260126T183000
DTEND;TZID=Europe/Stockholm:20260126T183000
DTSTAMP:20260423T132040
CREATED:20260110T163740Z
LAST-MODIFIED:20260110T164143Z
UID:2427-1769452200-1769452200@nynok.se
SUMMARY:Årsmöte
DESCRIPTION:Årsmöte kl 18:30 i kvarterslokalen på Aktervägen 31.
URL:https://nynok.se/event/arsmote-3/
END:VEVENT
BEGIN:VEVENT
DTSTART;TZID=Europe/Stockholm:20260208T110000
DTEND;TZID=Europe/Stockholm:20260208T110000
DTSTAMP:20260423T132040
CREATED:20260105T102349Z
LAST-MODIFIED:20260202T162150Z
UID:2421-1770548400-1770548400@nynok.se
SUMMARY:Klubbträning Krutkällaren (Käringboda)
DESCRIPTION:Vi siktar på att köra träning trots lite snö och kyla. Det blir banor för alla nivåer från grön till svart. Ca 2-4 km. \nSamling\, start och mål vid Krutkällaren. Sväng av mot Käringboda naturreservat och ta sedan första grusvägen åt höger.
URL:https://nynok.se/event/klubbtraning-karingboda/
END:VEVENT
BEGIN:VEVENT
DTSTART;TZID=Europe/Stockholm:20260308T110000
DTEND;TZID=Europe/Stockholm:20260308T110000
DTSTAMP:20260423T132040
CREATED:20260105T102434Z
LAST-MODIFIED:20260303T190734Z
UID:2423-1772967600-1772967600@nynok.se
SUMMARY:Klubbträning Sågen\, Käringboda
DESCRIPTION:Samling\, start och mål vid Sågen Käringboda. Det kommer att finnas banor för alla nivåer och åldrar. Vit till svart nivå. \n  \nVälkomna!
URL:https://nynok.se/event/klubbtraning-kboda/
CATEGORIES:Klubbträning,Ungdom
END:VEVENT
BEGIN:VEVENT
DTSTART;TZID=Europe/Stockholm:20260322T110000
DTEND;TZID=Europe/Stockholm:20260322T110000
DTSTAMP:20260423T132040
CREATED:20260105T102728Z
LAST-MODIFIED:20260321T062508Z
UID:2425-1774177200-1774177200@nynok.se
SUMMARY:Klubbträning Nicksta
DESCRIPTION:Samling vid Nickstabadet. Banor från vit till svart nivå\, så något för alla! Samling i närheten av hopptornet.
URL:https://nynok.se/event/klubbtraning-nicksta/
CATEGORIES:Klubbträning,Ungdom
END:VEVENT
BEGIN:VEVENT
DTSTART;TZID=Europe/Stockholm:20260330T180000
DTEND;TZID=Europe/Stockholm:20260330T180000
DTSTAMP:20260423T132040
CREATED:20260125T164515Z
LAST-MODIFIED:20260225T081023Z
UID:2524-1774893600-1774893600@nynok.se
SUMMARY:Motionsträning - månadens bana-premiär
DESCRIPTION:Premiär för månadens bana. Samling vid parkeringen på Lövhagen kl 18. Gemensam start för de som vill.
URL:https://nynok.se/event/motionstraning-manadens-bana/
CATEGORIES:Klubbträning
END:VEVENT
BEGIN:VEVENT
DTSTART;TZID=Europe/Stockholm:20260401T180000
DTEND;TZID=Europe/Stockholm:20260401T180000
DTSTAMP:20260423T132040
CREATED:20260125T164710Z
LAST-MODIFIED:20260225T080908Z
UID:2527-1775066400-1775066400@nynok.se
SUMMARY:Ungdomsträning Lövhagen
DESCRIPTION:Vårens första ungdomsträning. Samling vid parkeringen vid Lövhagen. Mer info kommer…
URL:https://nynok.se/event/ungdomstraning-lovhagen-10/
CATEGORIES:Ungdom
END:VEVENT
BEGIN:VEVENT
DTSTART;TZID=Europe/Stockholm:20260408T180000
DTEND;TZID=Europe/Stockholm:20260408T180000
DTSTAMP:20260423T132040
CREATED:20260125T164806Z
LAST-MODIFIED:20260328T064632Z
UID:2529-1775671200-1775671200@nynok.se
SUMMARY:Påsklov
DESCRIPTION:
URL:https://nynok.se/event/ungdomstraning-lovhagen-11/
CATEGORIES:Ungdom
END:VEVENT
BEGIN:VEVENT
DTSTART;TZID=Europe/Stockholm:20260413T180000
DTEND;TZID=Europe/Stockholm:20260413T180000
DTSTAMP:20260423T132040
CREATED:20260125T164956Z
LAST-MODIFIED:20260323T200032Z
UID:2532-1776103200-1776103200@nynok.se
SUMMARY:Motionsträning Torö sten
DESCRIPTION:Bana från parkeringen vid Torö sten (mittemot Kvarnängen)
URL:https://nynok.se/event/motionstraning-torosten/
CATEGORIES:Klubbträning
END:VEVENT
BEGIN:VEVENT
DTSTART;TZID=Europe/Stockholm:20260415T180000
DTEND;TZID=Europe/Stockholm:20260415T180000
DTSTAMP:20260423T132040
CREATED:20260125T165134Z
LAST-MODIFIED:20260225T081138Z
UID:2535-1776276000-1776276000@nynok.se
SUMMARY:Ungdomsträning Torö Sten
DESCRIPTION:Samling vid parkeringen vid Torö sten\, d.v.s vändplanen mitt emot infarten till Kvarnängens IP
URL:https://nynok.se/event/ungdomstraning-toro-sten-3/
CATEGORIES:Ungdom
END:VEVENT
BEGIN:VEVENT
DTSTART;TZID=Europe/Stockholm:20260420T080000
DTEND;TZID=Europe/Stockholm:20260420T170000
DTSTAMP:20260423T132040
CREATED:20260125T165635Z
LAST-MODIFIED:20260416T190550Z
UID:2543-1776672000-1776704400@nynok.se
SUMMARY:Motionsträning\, Käringboda\, Grava
DESCRIPTION:Samling vid parkeringen vid avfarten mot Grava\, strax norr om Långholms gård. \nBanor på ca 3 km medel och 5 km svår.
URL:https://nynok.se/event/motionstraning/
CATEGORIES:Klubbträning
END:VEVENT
BEGIN:VEVENT
DTSTART;TZID=Europe/Stockholm:20260422T180000
DTEND;TZID=Europe/Stockholm:20260422T180000
DTSTAMP:20260423T132040
CREATED:20260125T165717Z
LAST-MODIFIED:20260419T184615Z
UID:2545-1776880800-1776880800@nynok.se
SUMMARY:Ungdomsträning Ösmo
DESCRIPTION:Samling kl 18 vid parkeringen vid Ösmo centrum. Vi tar oss sedan några hundra meter in i på grusvägen till skogen vid elljusspåret. \nDet blir ett antal kortare banor med lite olika svårighet och man springer så många banor man vill och orkar.
URL:https://nynok.se/event/ungdomstraning-osmo-4/
CATEGORIES:Ungdom
END:VEVENT
BEGIN:VEVENT
DTSTART;TZID=Europe/Stockholm:20260425T100000
DTEND;TZID=Europe/Stockholm:20260425T100000
DTSTAMP:20260423T132040
CREATED:20260225T123530Z
LAST-MODIFIED:20260225T124632Z
UID:2721-1777111200-1777111200@nynok.se
SUMMARY:Grödingedubbeln Långdistans
DESCRIPTION:Tävling. Se Eventor för inbjudan.
URL:https://nynok.se/event/grodingedubbeln-langdistans/
CATEGORIES:Tävling,Ungdom
END:VEVENT
BEGIN:VEVENT
DTSTART;TZID=Europe/Stockholm:20260426T100000
DTEND;TZID=Europe/Stockholm:20260426T100000
DTSTAMP:20260423T132040
CREATED:20260225T123633Z
LAST-MODIFIED:20260225T124557Z
UID:2723-1777197600-1777197600@nynok.se
SUMMARY:Grödingedubbeln\, medeldistans
DESCRIPTION:Se inbjudan på Eventor
URL:https://nynok.se/event/grodingedubbeln-medeldistans/
CATEGORIES:Tävling,Ungdom
END:VEVENT
BEGIN:VEVENT
DTSTART;TZID=Europe/Stockholm:20260427T180000
DTEND;TZID=Europe/Stockholm:20260427T180000
DTSTAMP:20260423T132040
CREATED:20260225T072950Z
LAST-MODIFIED:20260324T183726Z
UID:2676-1777312800-1777312800@nynok.se
SUMMARY:Motionsträning Alhagen
DESCRIPTION:
URL:https://nynok.se/event/motionstraning-2/
CATEGORIES:Klubbträning
END:VEVENT
BEGIN:VEVENT
DTSTART;TZID=Europe/Stockholm:20260429T180000
DTEND;TZID=Europe/Stockholm:20260429T180000
DTSTAMP:20260423T132040
CREATED:20260225T073128Z
LAST-MODIFIED:20260225T081422Z
UID:2678-1777485600-1777485600@nynok.se
SUMMARY:Ungdomsträning Alhagen
DESCRIPTION:Samling vid entrén till våtmarken vid Kalvö.
URL:https://nynok.se/event/ungdomstraning-alhagen-2/
CATEGORIES:Ungdom
END:VEVENT
END:VCALENDAR