BEGIN:VCALENDAR
VERSION:2.0
PRODID:-//Nynäshamns OK - ECPv6.15.20//NONSGML v1.0//EN
CALSCALE:GREGORIAN
METHOD:PUBLISH
X-WR-CALNAME:Nynäshamns OK
X-ORIGINAL-URL:https://nynok.se
X-WR-CALDESC:Händelser för Nynäshamns OK
REFRESH-INTERVAL;VALUE=DURATION:PT1H
X-Robots-Tag:noindex
X-PUBLISHED-TTL:PT1H
BEGIN:VTIMEZONE
TZID:Europe/Stockholm
BEGIN:DAYLIGHT
TZOFFSETFROM:+0100
TZOFFSETTO:+0200
TZNAME:CEST
DTSTART:20230326T010000
END:DAYLIGHT
BEGIN:STANDARD
TZOFFSETFROM:+0200
TZOFFSETTO:+0100
TZNAME:CET
DTSTART:20231029T010000
END:STANDARD
BEGIN:DAYLIGHT
TZOFFSETFROM:+0100
TZOFFSETTO:+0200
TZNAME:CEST
DTSTART:20240331T010000
END:DAYLIGHT
BEGIN:STANDARD
TZOFFSETFROM:+0200
TZOFFSETTO:+0100
TZNAME:CET
DTSTART:20241027T010000
END:STANDARD
BEGIN:DAYLIGHT
TZOFFSETFROM:+0100
TZOFFSETTO:+0200
TZNAME:CEST
DTSTART:20250330T010000
END:DAYLIGHT
BEGIN:STANDARD
TZOFFSETFROM:+0200
TZOFFSETTO:+0100
TZNAME:CET
DTSTART:20251026T010000
END:STANDARD
BEGIN:DAYLIGHT
TZOFFSETFROM:+0100
TZOFFSETTO:+0200
TZNAME:CEST
DTSTART:20260329T010000
END:DAYLIGHT
BEGIN:STANDARD
TZOFFSETFROM:+0200
TZOFFSETTO:+0100
TZNAME:CET
DTSTART:20261025T010000
END:STANDARD
END:VTIMEZONE
BEGIN:VEVENT
DTSTART;TZID=Europe/Stockholm:20250427T100000
DTEND;TZID=Europe/Stockholm:20250427T100000
DTSTAMP:20260423T193118
CREATED:20250405T084558Z
LAST-MODIFIED:20250405T085827Z
UID:2175-1745748000-1745748000@nynok.se
SUMMARY:Pålamalmsdubbeln medeldistans
DESCRIPTION:Se https://eventor.orientering.se/Events/Show/49129
URL:https://nynok.se/event/palamalmsdubbeln-medeldistans/
END:VEVENT
BEGIN:VEVENT
DTSTART;TZID=Europe/Stockholm:20250426T100000
DTEND;TZID=Europe/Stockholm:20250426T100000
DTSTAMP:20260423T193118
CREATED:20250405T084507Z
LAST-MODIFIED:20250405T084507Z
UID:2173-1745661600-1745661600@nynok.se
SUMMARY:Pålamalmsdubbeln långdistans
DESCRIPTION:Se https://eventor.orientering.se/Events/Show/49128
URL:https://nynok.se/event/palamalmsdubbeln-langdistans/
END:VEVENT
BEGIN:VEVENT
DTSTART;TZID=Europe/Stockholm:20250423T180000
DTEND;TZID=Europe/Stockholm:20250423T180000
DTSTAMP:20260423T193118
CREATED:20250214T192224Z
LAST-MODIFIED:20250418T054239Z
UID:2093-1745431200-1745431200@nynok.se
SUMMARY:Ungdomsträning Lövhagen
DESCRIPTION:Samling kl 18 vid parkeringen Lövhagen
URL:https://nynok.se/event/ungdomstraning-7/
END:VEVENT
BEGIN:VEVENT
DTSTART;TZID=Europe/Stockholm:20250416T180000
DTEND;TZID=Europe/Stockholm:20250416T180000
DTSTAMP:20260423T193118
CREATED:20250214T192054Z
LAST-MODIFIED:20250405T085950Z
UID:2091-1744826400-1744826400@nynok.se
SUMMARY:Ungdomsträning Kvarnängen
DESCRIPTION:Samling kl 18 vid foten av f.d. slalombacken.
URL:https://nynok.se/event/ungdomstraning-6/
END:VEVENT
BEGIN:VEVENT
DTSTART;TZID=Europe/Stockholm:20250413T100000
DTEND;TZID=Europe/Stockholm:20250413T100000
DTSTAMP:20260423T193118
CREATED:20250405T115746Z
LAST-MODIFIED:20250405T115746Z
UID:2184-1744538400-1744538400@nynok.se
SUMMARY:Klubbträning Kalvö
DESCRIPTION:Samling vid entren till Alhagens våtmark vid Kalvö. Kör in i Kalvö industriområde och följ skyltar mot våtmarken. \nBanor för alla nivåer. Både nybörjare och erfarna. Banlängder från ca 2 till 5 km.
URL:https://nynok.se/event/klubbtraning-kalvo/
END:VEVENT
BEGIN:VEVENT
DTSTART;TZID=Europe/Stockholm:20250409T180000
DTEND;TZID=Europe/Stockholm:20250409T180000
DTSTAMP:20260423T193118
CREATED:20250214T192013Z
LAST-MODIFIED:20250405T085725Z
UID:2089-1744221600-1744221600@nynok.se
SUMMARY:Ungdomsträning Ösmo
DESCRIPTION:Vi samlas kl 18:00 vid parkeringen i Ösmo centrum (Ica\, badhuset…). Sedan tar vi oss tillsammans ca 300 meter söderut till start/mål vid utegymmet längs elljusspåret.  Se karta. \nDet kommer att finnas ett antal kortare banor för alla. För de mer rutinerade blir det också först en övning att orientera efter kartminne.
URL:https://nynok.se/event/ungdomstraning-5/
END:VEVENT
BEGIN:VEVENT
DTSTART;TZID=Europe/Stockholm:20250402T180000
DTEND;TZID=Europe/Stockholm:20250402T180000
DTSTAMP:20260423T193118
CREATED:20250214T191932Z
LAST-MODIFIED:20250326T173344Z
UID:2087-1743616800-1743616800@nynok.se
SUMMARY:Ungdomsträning Lövhagen
DESCRIPTION:Vårens första onsdagsträning för ungdomar. Samling vid parkeringen Lövhagen. \nBåde de som orienterat förut och nybörjare välkomna! Lämplig ålder från ca 8 år och uppåt.
URL:https://nynok.se/event/ungdomstraning-4/
END:VEVENT
BEGIN:VEVENT
DTSTART;TZID=Europe/Stockholm:20250330T100000
DTEND;TZID=Europe/Stockholm:20250330T100000
DTSTAMP:20260423T193118
CREATED:20250302T182117Z
LAST-MODIFIED:20250326T173045Z
UID:2141-1743328800-1743328800@nynok.se
SUMMARY:Ungdomsträning Eneby
DESCRIPTION:Samling kl 10 vid parkeringen längs grusvägen in mot Eneby motorsportanläggning. Infart från gamla Nynäsvägen mellan Kvarnängen och Älviksbron.  Se karta \nDet kommer att finnas en lättare bana (vit nivå) och en lite knepigare (gul nivå). \n 
URL:https://nynok.se/event/ungdomstraning-eneby/
END:VEVENT
BEGIN:VEVENT
DTSTART;TZID=Europe/Stockholm:20250316T100000
DTEND;TZID=Europe/Stockholm:20250316T100000
DTSTAMP:20260423T193118
CREATED:20250302T182037Z
LAST-MODIFIED:20250313T183947Z
UID:2139-1742119200-1742119200@nynok.se
SUMMARY:Ungdomsträning Sandhamn
DESCRIPTION:Samling vid vändplanen allra längst bort på Sandskogsvägen (vid Skansvägen). Vägen upp mot Sandhamn och bara fortsätt tills vägen tar slut alltså.
URL:https://nynok.se/event/ungdomstraning-sandhamn-4/
END:VEVENT
BEGIN:VEVENT
DTSTART;TZID=Europe/Stockholm:20250309T100000
DTEND;TZID=Europe/Stockholm:20250309T100000
DTSTAMP:20260423T193118
CREATED:20250209T195354Z
LAST-MODIFIED:20250302T181945Z
UID:2067-1741514400-1741514400@nynok.se
SUMMARY:Klubbträning Nicksta
DESCRIPTION:Start vid 10-tiden. Samling\, start och mål är vid hopptornet vid Nickstabadet och banorna går vid Näset/Natvik. \nDet finns banor för alla! Från ca 2 km nybörjare till ca 4\,5 km för avancerade. \nVälkomna!
URL:https://nynok.se/event/klubbtraning-6/
END:VEVENT
BEGIN:VEVENT
DTSTART;TZID=Europe/Stockholm:20250209T100000
DTEND;TZID=Europe/Stockholm:20250209T100000
DTSTAMP:20260423T193118
CREATED:20250126T182608Z
LAST-MODIFIED:20250126T182608Z
UID:2064-1739095200-1739095200@nynok.se
SUMMARY:Klubbträning Krutkällaren
DESCRIPTION:Banor för alla nivåer\, från nybörjare till avancerade. Parkering\, start och mål vid Krutkällaren\, Käringboda naturreservat. \nMer info kommer…
URL:https://nynok.se/event/klubbtraning-krutkallaren-2/
CATEGORIES:Klubbträning
END:VEVENT
BEGIN:VEVENT
DTSTART;TZID=Europe/Stockholm:20250127T180000
DTEND;TZID=Europe/Stockholm:20250127T180000
DTSTAMP:20260423T193118
CREATED:20250103T163842Z
LAST-MODIFIED:20250103T163842Z
UID:2018-1738000800-1738000800@nynok.se
SUMMARY:Årsmöte
DESCRIPTION:Vi har årsmötet i Aktersalongen\, dvs samlingslokalen på Aktervägen 31.
URL:https://nynok.se/event/arsmote-2/
END:VEVENT
BEGIN:VEVENT
DTSTART;TZID=Europe/Stockholm:20241215T100000
DTEND;TZID=Europe/Stockholm:20241215T100000
DTSTAMP:20260423T193118
CREATED:20241201T192028Z
LAST-MODIFIED:20241201T192028Z
UID:2014-1734256800-1734256800@nynok.se
SUMMARY:Ungdomsträning
DESCRIPTION:Ungdomsträning någonstans i Nynäshamn. Mer info kommer…
URL:https://nynok.se/event/ungdomstraning-3/
END:VEVENT
BEGIN:VEVENT
DTSTART;TZID=Europe/Stockholm:20241201T100000
DTEND;TZID=Europe/Stockholm:20241201T100000
DTSTAMP:20260423T193118
CREATED:20241015T172743Z
LAST-MODIFIED:20241124T182547Z
UID:1988-1733047200-1733047200@nynok.se
SUMMARY:Klubbträning Ösmo
DESCRIPTION:Den här gången blir det banor i stadsnära miljö i och omkring Ösmo. \nSamling\, start och mål vid Ösmo centrum\, framför simhallen. \nStart kl 10:00 \nBanor för både ungdomar och äldre.
URL:https://nynok.se/event/klubbtraning-1dec/
END:VEVENT
BEGIN:VEVENT
DTSTART;TZID=Europe/Stockholm:20241117T100000
DTEND;TZID=Europe/Stockholm:20241117T100000
DTSTAMP:20260423T193118
CREATED:20241015T172620Z
LAST-MODIFIED:20241015T172620Z
UID:1986-1731837600-1731837600@nynok.se
SUMMARY:Ungdomsträning Torö sten
DESCRIPTION:Samling kl 10 vid parkeringen Torö sten
URL:https://nynok.se/event/ungdomstraning-toro-sten-2/
END:VEVENT
BEGIN:VEVENT
DTSTART;TZID=Europe/Stockholm:20241103T100000
DTEND;TZID=Europe/Stockholm:20241103T100000
DTSTAMP:20260423T193118
CREATED:20241015T172512Z
LAST-MODIFIED:20241015T172512Z
UID:1984-1730628000-1730628000@nynok.se
SUMMARY:Klubbträning Hacktorp
DESCRIPTION:Samling kl 10 vid bron över Nynäsvägen vid Hacktorp. \nBanor för både ungdomar och äldre.
URL:https://nynok.se/event/klubbtraning-hacktorp/
END:VEVENT
BEGIN:VEVENT
DTSTART;TZID=Europe/Stockholm:20241020T100000
DTEND;TZID=Europe/Stockholm:20241020T100000
DTSTAMP:20260423T193118
CREATED:20241015T172240Z
LAST-MODIFIED:20241015T181650Z
UID:1982-1729418400-1729418400@nynok.se
SUMMARY:Ungdomsträning Kvarnängen
DESCRIPTION:Träning för ungdomar. Samling vid parkeringen kl 10.
URL:https://nynok.se/event/ungdomstraning-lovhagen-8/
END:VEVENT
BEGIN:VEVENT
DTSTART;TZID=Europe/Stockholm:20241012T090000
DTEND;TZID=Europe/Stockholm:20241012T090000
DTSTAMP:20260423T193118
CREATED:20240831T090333Z
LAST-MODIFIED:20240831T090333Z
UID:1964-1728723600-1728723600@nynok.se
SUMMARY:25-manna
DESCRIPTION:https://www.25manna.se/
URL:https://nynok.se/event/25-manna/
END:VEVENT
BEGIN:VEVENT
DTSTART;TZID=Europe/Stockholm:20241009T180000
DTEND;TZID=Europe/Stockholm:20241009T180000
DTSTAMP:20260423T193118
CREATED:20240928T185455Z
LAST-MODIFIED:20240928T185455Z
UID:1979-1728496800-1728496800@nynok.se
SUMMARY:Ungdomsträning\, Nattorientering vid gymnasiet
DESCRIPTION:Nattorientering i området runt gymnasiet. Ta med pannlampa eller ficklampa. Samling vid parkeringen vid Nynäshamns gymnasium
URL:https://nynok.se/event/ungdomstraning-nattorientering-vid-gymnasiet/
END:VEVENT
BEGIN:VEVENT
DTSTART;TZID=Europe/Stockholm:20241006T110000
DTEND;TZID=Europe/Stockholm:20241006T110000
DTSTAMP:20260423T193118
CREATED:20240831T090102Z
LAST-MODIFIED:20240831T090441Z
UID:1960-1728212400-1728212400@nynok.se
SUMMARY:Tävling\, final ungdomsserien\, sprint\, Tyresö
DESCRIPTION:
URL:https://nynok.se/event/tavling-final-ungdomsserien-tyreso/
END:VEVENT
BEGIN:VEVENT
DTSTART;TZID=Europe/Stockholm:20241002T173000
DTEND;TZID=Europe/Stockholm:20241002T173000
DTSTAMP:20260423T193118
CREATED:20240831T085518Z
LAST-MODIFIED:20240928T185119Z
UID:1954-1727890200-1727890200@nynok.se
SUMMARY:Ungdomsträning\, sprint Estö Obs! kl 17:30
DESCRIPTION:Samling kl 17:30 vid utegymmet/skateparken vid Estö. Vi startar en halvtimme tidigare denna vecka för att hinna springa innan det blir mörkt.
URL:https://nynok.se/event/ungdomstraning-sprint-esto/
END:VEVENT
BEGIN:VEVENT
DTSTART;TZID=Europe/Stockholm:20240928T100000
DTEND;TZID=Europe/Stockholm:20240928T100000
DTSTAMP:20260423T193118
CREATED:20240831T090219Z
LAST-MODIFIED:20240831T090219Z
UID:1962-1727517600-1727517600@nynok.se
SUMMARY:Tävling\, ytterskärgårdsultran\, Nåttarö
DESCRIPTION:https://eventor.orientering.se/Events/Show/50510
URL:https://nynok.se/event/tavling-ytterskargardsultran-nattaro/
END:VEVENT
BEGIN:VEVENT
DTSTART;TZID=Europe/Stockholm:20240925T180000
DTEND;TZID=Europe/Stockholm:20240925T180000
DTSTAMP:20260423T193118
CREATED:20240831T085306Z
LAST-MODIFIED:20240921T145529Z
UID:1952-1727287200-1727287200@nynok.se
SUMMARY:Ungdomsträning Sandhamn
DESCRIPTION:De sista veckorna på hösten blir det sprintorientering. Denna vecka går banorna bland radhusområdena på Sandhamn. \nSamling kl 18 vid parkeringen till Sandskogens förskola.
URL:https://nynok.se/event/ungdomstraning-sandhamn-3/
END:VEVENT
BEGIN:VEVENT
DTSTART;TZID=Europe/Stockholm:20240922T100000
DTEND;TZID=Europe/Stockholm:20240922T100000
DTSTAMP:20260423T193118
CREATED:20240831T085910Z
LAST-MODIFIED:20240831T085910Z
UID:1958-1726999200-1726999200@nynok.se
SUMMARY:Tävling Sundbydubbeln medeldistans
DESCRIPTION:https://eventor.orientering.se/Events/Show/45004
URL:https://nynok.se/event/tavling-sundbydubbeln-medeldistans/
END:VEVENT
BEGIN:VEVENT
DTSTART;TZID=Europe/Stockholm:20240921T100000
DTEND;TZID=Europe/Stockholm:20240921T100000
DTSTAMP:20260423T193118
CREATED:20240831T085745Z
LAST-MODIFIED:20240831T085813Z
UID:1956-1726912800-1726912800@nynok.se
SUMMARY:Tävling Sundbydubbeln Långdistans
DESCRIPTION:https://eventor.orientering.se/Events/Show/45003
URL:https://nynok.se/event/tavling-sundbydubbeln-langdistans/
END:VEVENT
BEGIN:VEVENT
DTSTART;TZID=Europe/Stockholm:20240918T180000
DTEND;TZID=Europe/Stockholm:20240918T180000
DTSTAMP:20260423T193118
CREATED:20240831T085138Z
LAST-MODIFIED:20240915T052926Z
UID:1950-1726682400-1726682400@nynok.se
SUMMARY:Ungdomsträning Lövhagen
DESCRIPTION:Samling 18:00 vid parkeringen.
URL:https://nynok.se/event/ungdomstraning-lovet/
END:VEVENT
BEGIN:VEVENT
DTSTART;TZID=Europe/Stockholm:20240911T180000
DTEND;TZID=Europe/Stockholm:20240911T180000
DTSTAMP:20260423T193118
CREATED:20240818T183341Z
LAST-MODIFIED:20240911T045106Z
UID:1942-1726077600-1726077600@nynok.se
SUMMARY:Ungdomsträning Lövhagen INSTÄLLD
DESCRIPTION:Inställd pga busväder. \n 
URL:https://nynok.se/event/ungdomstraning-lovhagen-7/
END:VEVENT
BEGIN:VEVENT
DTSTART;TZID=Europe/Stockholm:20240908T100000
DTEND;TZID=Europe/Stockholm:20240908T100000
DTSTAMP:20260423T193118
CREATED:20240818T183300Z
LAST-MODIFIED:20240831T061141Z
UID:1939-1725789600-1725789600@nynok.se
SUMMARY:25-mannaträning i 10-milaskogen
DESCRIPTION:Istället för motionsorientering kör vi träning inför 25-manna med gemensam start (om man vill) för att få till stafettkänslan. \nSamling vid Torö Sten kl 10. Gemensam start 10:15. \nBanor: \nVit: ca 2 km (sträcka 4) \nOrange/röd: ca  3\,5 km (sträcka 3\,6\,7\,23) \nBlå: ca 5 km (sträcka 1\,2\,5\,24\,25)
URL:https://nynok.se/event/25-mannatraning-pa-10-milakartan/
END:VEVENT
BEGIN:VEVENT
DTSTART;TZID=Europe/Stockholm:20240904T180000
DTEND;TZID=Europe/Stockholm:20240904T180000
DTSTAMP:20260423T193118
CREATED:20240818T183143Z
LAST-MODIFIED:20240831T061215Z
UID:1937-1725472800-1725472800@nynok.se
SUMMARY:Ungdomsträning Ösmo
DESCRIPTION:Samling vid elljusspåret i Ösmo vid Oskars gatukök/Din X-macken nära Ösmo centrum. Se karta. \n 
URL:https://nynok.se/event/ungdomstraning-osmo-2/
END:VEVENT
BEGIN:VEVENT
DTSTART;TZID=Europe/Stockholm:20240828T180000
DTEND;TZID=Europe/Stockholm:20240828T180000
DTSTAMP:20260423T193118
CREATED:20240602T192701Z
LAST-MODIFIED:20240807T173701Z
UID:1813-1724868000-1724868000@nynok.se
SUMMARY:Ungdomsserien Flaten
DESCRIPTION:Den här veckan åker vi iväg till ungdomsserien som går vid Flaten. \nSe inbjudan på Eventor
URL:https://nynok.se/event/ungdomsserien-2/
END:VEVENT
END:VCALENDAR