BEGIN:VCALENDAR
VERSION:2.0
PRODID:-//Nynäshamns OK - ECPv6.15.20//NONSGML v1.0//EN
CALSCALE:GREGORIAN
METHOD:PUBLISH
X-WR-CALNAME:Nynäshamns OK
X-ORIGINAL-URL:https://nynok.se
X-WR-CALDESC:Händelser för Nynäshamns OK
REFRESH-INTERVAL;VALUE=DURATION:PT1H
X-Robots-Tag:noindex
X-PUBLISHED-TTL:PT1H
BEGIN:VTIMEZONE
TZID:Europe/Stockholm
BEGIN:DAYLIGHT
TZOFFSETFROM:+0100
TZOFFSETTO:+0200
TZNAME:CEST
DTSTART:20240331T010000
END:DAYLIGHT
BEGIN:STANDARD
TZOFFSETFROM:+0200
TZOFFSETTO:+0100
TZNAME:CET
DTSTART:20241027T010000
END:STANDARD
BEGIN:DAYLIGHT
TZOFFSETFROM:+0100
TZOFFSETTO:+0200
TZNAME:CEST
DTSTART:20250330T010000
END:DAYLIGHT
BEGIN:STANDARD
TZOFFSETFROM:+0200
TZOFFSETTO:+0100
TZNAME:CET
DTSTART:20251026T010000
END:STANDARD
BEGIN:DAYLIGHT
TZOFFSETFROM:+0100
TZOFFSETTO:+0200
TZNAME:CEST
DTSTART:20260329T010000
END:DAYLIGHT
BEGIN:STANDARD
TZOFFSETFROM:+0200
TZOFFSETTO:+0100
TZNAME:CET
DTSTART:20261025T010000
END:STANDARD
END:VTIMEZONE
BEGIN:VEVENT
DTSTART;TZID=Europe/Stockholm:20250903T180000
DTEND;TZID=Europe/Stockholm:20250903T180000
DTSTAMP:20260423T104041
CREATED:20250620T064112Z
LAST-MODIFIED:20250831T155956Z
UID:2297-1756922400-1756922400@nynok.se
SUMMARY:Ungdomsträning + klubbträning\, Pistolskyttebanan
DESCRIPTION:Samling vid parkeringen vid pistolskyttebanan som ligger mellan Kvarnängen och Älviken längs gamla Nynäsvägen. \nBanor för både unga och gamla.  De yngsta ungdomarna springer en vanlig bana. De lite mer rutinerade ungdomarna kör ”tennis-OL”. Vi delar in i grupper om ca 2-4 personer och startar med 15 sekunder mellanrum inom gruppen. \nFör de äldre finns även en medelsvår bana på ca 3\,5 km med avkortningsmöjligheter
URL:https://nynok.se/event/ungdomstraning-16/
END:VEVENT
BEGIN:VEVENT
DTSTART;TZID=Europe/Stockholm:20250910T180000
DTEND;TZID=Europe/Stockholm:20250910T180000
DTSTAMP:20260423T104041
CREATED:20250806T185100Z
LAST-MODIFIED:20250907T190242Z
UID:2329-1757527200-1757527200@nynok.se
SUMMARY:Ungdomsträning Ösmo
DESCRIPTION:Samling vid parkeringen Ösmo centrum kl 18:00. Sedan förflyttar vi oss till elljusspåret och håller till bakom macken och grillen.
URL:https://nynok.se/event/ungdomstraning-osmo-3/
END:VEVENT
BEGIN:VEVENT
DTSTART;TZID=Europe/Stockholm:20250917T180000
DTEND;TZID=Europe/Stockholm:20250917T180000
DTSTAMP:20260423T104041
CREATED:20250806T185158Z
LAST-MODIFIED:20250914T180725Z
UID:2331-1758132000-1758132000@nynok.se
SUMMARY:Ungdomsträning + klubbträning Hacktorp
DESCRIPTION:Samling vid gångbron över Nynäsvägen vid Hacktorp. \nDet kommer att finnas ett fem stycken korta banor på mellan ca 1 och 2 km med olika svårighet. Banorna går i olika stråk\, så det går bra att springa flera banor för den som vill.
URL:https://nynok.se/event/ungdomstraning-klubbtraning-hacktorp/
END:VEVENT
BEGIN:VEVENT
DTSTART;TZID=Europe/Stockholm:20250924T180000
DTEND;TZID=Europe/Stockholm:20250924T180000
DTSTAMP:20260423T104041
CREATED:20250806T185423Z
LAST-MODIFIED:20250921T082226Z
UID:2333-1758736800-1758736800@nynok.se
SUMMARY:Ungdomsträning Estö (sprint)
DESCRIPTION:Den här veckan blir det träning på sprintorientering på karta ritad enligt sprintkartnormen i skala 1: 4 000. Samling vid utegymmet bredvid skateparken vid Estö kl 18:00
URL:https://nynok.se/event/ungdomstraning-esto-sprint/
END:VEVENT
BEGIN:VEVENT
DTSTART;TZID=Europe/Stockholm:20250927T100000
DTEND;TZID=Europe/Stockholm:20250927T100000
DTSTAMP:20260423T104041
CREATED:20250811T183744Z
LAST-MODIFIED:20250921T082813Z
UID:2340-1758967200-1758967200@nynok.se
SUMMARY:25-mannaträning Eneby
DESCRIPTION:Samling kl 10. Sväng av gamla Nynäsvägen mellan Kvarnängen och Älviksbron vid infart mot motorbanan. Efter ca 100 meter längs grusvägen finns en parkering där vi håller till. \nGemensam start ca 10:15 för att få till stafettkänslan. \nDet kommer att finnas vit bana ca 2 km\, orange bana ca 3 km och blå bana ca 4 km.
URL:https://nynok.se/event/25-mannatraning-eneby/
END:VEVENT
BEGIN:VEVENT
DTSTART;TZID=Europe/Stockholm:20250928T100000
DTEND;TZID=Europe/Stockholm:20250928T100000
DTSTAMP:20260423T104041
CREATED:20250806T185516Z
LAST-MODIFIED:20250806T185516Z
UID:2335-1759053600-1759053600@nynok.se
SUMMARY:Ungdomsserien final
DESCRIPTION:
URL:https://nynok.se/event/ungdomsserien-final/
END:VEVENT
END:VCALENDAR