BEGIN:VCALENDAR
VERSION:2.0
PRODID:-//Nynäshamns OK - ECPv6.15.20//NONSGML v1.0//EN
CALSCALE:GREGORIAN
METHOD:PUBLISH
X-WR-CALNAME:Nynäshamns OK
X-ORIGINAL-URL:https://nynok.se
X-WR-CALDESC:Händelser för Nynäshamns OK
REFRESH-INTERVAL;VALUE=DURATION:PT1H
X-Robots-Tag:noindex
X-PUBLISHED-TTL:PT1H
BEGIN:VTIMEZONE
TZID:Europe/Stockholm
BEGIN:DAYLIGHT
TZOFFSETFROM:+0100
TZOFFSETTO:+0200
TZNAME:CEST
DTSTART:20250330T010000
END:DAYLIGHT
BEGIN:STANDARD
TZOFFSETFROM:+0200
TZOFFSETTO:+0100
TZNAME:CET
DTSTART:20251026T010000
END:STANDARD
BEGIN:DAYLIGHT
TZOFFSETFROM:+0100
TZOFFSETTO:+0200
TZNAME:CEST
DTSTART:20260329T010000
END:DAYLIGHT
BEGIN:STANDARD
TZOFFSETFROM:+0200
TZOFFSETTO:+0100
TZNAME:CET
DTSTART:20261025T010000
END:STANDARD
BEGIN:DAYLIGHT
TZOFFSETFROM:+0100
TZOFFSETTO:+0200
TZNAME:CEST
DTSTART:20270328T010000
END:DAYLIGHT
BEGIN:STANDARD
TZOFFSETFROM:+0200
TZOFFSETTO:+0100
TZNAME:CET
DTSTART:20271031T010000
END:STANDARD
END:VTIMEZONE
BEGIN:VEVENT
DTSTART;TZID=Europe/Stockholm:20260111T110000
DTEND;TZID=Europe/Stockholm:20260111T110000
DTSTAMP:20260423T104049
CREATED:20251215T180754Z
LAST-MODIFIED:20260105T101947Z
UID:2411-1768129200-1768129200@nynok.se
SUMMARY:Klubbträning - inställd pga snö
DESCRIPTION:Enligt prognosen ser det ut som att det kommer att ligga djup snö\, så vi ställer in detta tillfälle
URL:https://nynok.se/event/klubbtraning-8/
END:VEVENT
BEGIN:VEVENT
DTSTART;TZID=Europe/Stockholm:20260125T110000
DTEND;TZID=Europe/Stockholm:20260125T110000
DTSTAMP:20260423T104049
CREATED:20260105T102202Z
LAST-MODIFIED:20260123T131547Z
UID:2418-1769338800-1769338800@nynok.se
SUMMARY:Klubbträning Lövhagen INSTÄLLT
DESCRIPTION:Vi ställer in denna träning pga snö och kallväder.
URL:https://nynok.se/event/klubbtraning-toro-sten/
END:VEVENT
BEGIN:VEVENT
DTSTART;TZID=Europe/Stockholm:20260126T183000
DTEND;TZID=Europe/Stockholm:20260126T183000
DTSTAMP:20260423T104049
CREATED:20260110T163740Z
LAST-MODIFIED:20260110T164143Z
UID:2427-1769452200-1769452200@nynok.se
SUMMARY:Årsmöte
DESCRIPTION:Årsmöte kl 18:30 i kvarterslokalen på Aktervägen 31.
URL:https://nynok.se/event/arsmote-3/
END:VEVENT
END:VCALENDAR