BEGIN:VCALENDAR
VERSION:2.0
PRODID:-//Nynäshamns OK - ECPv6.15.20//NONSGML v1.0//EN
CALSCALE:GREGORIAN
METHOD:PUBLISH
X-ORIGINAL-URL:https://nynok.se
X-WR-CALDESC:Händelser för Nynäshamns OK
REFRESH-INTERVAL;VALUE=DURATION:PT1H
X-Robots-Tag:noindex
X-PUBLISHED-TTL:PT1H
BEGIN:VTIMEZONE
TZID:Europe/Stockholm
BEGIN:DAYLIGHT
TZOFFSETFROM:+0100
TZOFFSETTO:+0200
TZNAME:CEST
DTSTART:20250330T010000
END:DAYLIGHT
BEGIN:STANDARD
TZOFFSETFROM:+0200
TZOFFSETTO:+0100
TZNAME:CET
DTSTART:20251026T010000
END:STANDARD
BEGIN:DAYLIGHT
TZOFFSETFROM:+0100
TZOFFSETTO:+0200
TZNAME:CEST
DTSTART:20260329T010000
END:DAYLIGHT
BEGIN:STANDARD
TZOFFSETFROM:+0200
TZOFFSETTO:+0100
TZNAME:CET
DTSTART:20261025T010000
END:STANDARD
BEGIN:DAYLIGHT
TZOFFSETFROM:+0100
TZOFFSETTO:+0200
TZNAME:CEST
DTSTART:20270328T010000
END:DAYLIGHT
BEGIN:STANDARD
TZOFFSETFROM:+0200
TZOFFSETTO:+0100
TZNAME:CET
DTSTART:20271031T010000
END:STANDARD
END:VTIMEZONE
BEGIN:VEVENT
DTSTART;TZID=Europe/Stockholm:20260504T180000
DTEND;TZID=Europe/Stockholm:20260504T180000
DTSTAMP:20260419T152654
CREATED:20260225T073413Z
LAST-MODIFIED:20260225T081447Z
UID:2680-1777917600-1777917600@nynok.se
SUMMARY:Motionsträning\,  månadens bana-preminär
DESCRIPTION:Premiär för månadens bana. Samling vid parkeringen på Lövhagen kl 18. Gemensam start för de som vill.
URL:https://nynok.se/event/motionstraning-manadens-bana-preminar/
CATEGORIES:Klubbträning
END:VEVENT
BEGIN:VEVENT
DTSTART;TZID=Europe/Stockholm:20260505T180000
DTEND;TZID=Europe/Stockholm:20260505T180000
DTSTAMP:20260419T152654
CREATED:20260225T123953Z
LAST-MODIFIED:20260225T124525Z
UID:2725-1778004000-1778004000@nynok.se
SUMMARY:Ungdomsserien kretstävling 1
DESCRIPTION:Ungdomstävling. Se Eventor för inbjudan
URL:https://nynok.se/event/ungdomsserien-kretstavling-1/
CATEGORIES:Tävling,Ungdom
END:VEVENT
BEGIN:VEVENT
DTSTART;TZID=Europe/Stockholm:20260506T180000
DTEND;TZID=Europe/Stockholm:20260506T180000
DTSTAMP:20260419T152654
CREATED:20260225T073714Z
LAST-MODIFIED:20260225T081654Z
UID:2682-1778090400-1778090400@nynok.se
SUMMARY:Ungdomsträning Kvarnängen
DESCRIPTION:Samling nedanför före detta slalombacken.
URL:https://nynok.se/event/ungdomstraning-kvarnangen-4/
CATEGORIES:Ungdom
END:VEVENT
BEGIN:VEVENT
DTSTART;TZID=Europe/Stockholm:20260511T180000
DTEND;TZID=Europe/Stockholm:20260511T180000
DTSTAMP:20260419T152654
CREATED:20260225T074232Z
LAST-MODIFIED:20260225T081719Z
UID:2684-1778522400-1778522400@nynok.se
SUMMARY:Motionsträning\, preliminärt Lövhagen
DESCRIPTION:
URL:https://nynok.se/event/motionstraning-3/
CATEGORIES:Klubbträning
END:VEVENT
BEGIN:VEVENT
DTSTART;TZID=Europe/Stockholm:20260513T180000
DTEND;TZID=Europe/Stockholm:20260513T180000
DTSTAMP:20260419T152654
CREATED:20260225T074334Z
LAST-MODIFIED:20260225T081828Z
UID:2686-1778695200-1778695200@nynok.se
SUMMARY:Ungdomsträning Lövhagen
DESCRIPTION:Samling vid stora parkeringen
URL:https://nynok.se/event/ungdomstraning-lovhagen-12/
CATEGORIES:Ungdom
END:VEVENT
BEGIN:VEVENT
DTSTART;TZID=Europe/Stockholm:20260518T180000
DTEND;TZID=Europe/Stockholm:20260518T180000
DTSTAMP:20260419T152654
CREATED:20260225T074752Z
LAST-MODIFIED:20260225T081849Z
UID:2692-1779127200-1779127200@nynok.se
SUMMARY:Motionsträning\, Lövhagen
DESCRIPTION:Prelimiärt träning på Naturpassetkontroller.
URL:https://nynok.se/event/motionstraning-4/
CATEGORIES:Klubbträning
END:VEVENT
BEGIN:VEVENT
DTSTART;TZID=Europe/Stockholm:20260520T180000
DTEND;TZID=Europe/Stockholm:20260520T180000
DTSTAMP:20260419T152654
CREATED:20260225T075103Z
LAST-MODIFIED:20260225T081930Z
UID:2694-1779300000-1779300000@nynok.se
SUMMARY:Ungdomsträning Torö sten
DESCRIPTION:Samling vid parkeringen vid Fjätternslingen mitt emot infarten till Kvarnängen.
URL:https://nynok.se/event/ungdomstraning-toro-sten-4/
CATEGORIES:Ungdom
END:VEVENT
BEGIN:VEVENT
DTSTART;TZID=Europe/Stockholm:20260521T180000
DTEND;TZID=Europe/Stockholm:20260521T180000
DTSTAMP:20260419T152654
CREATED:20260225T124156Z
LAST-MODIFIED:20260225T124457Z
UID:2728-1779386400-1779386400@nynok.se
SUMMARY:Ungdomsserien\, kretstävling 2
DESCRIPTION:Ungdomstävling. Se Eventor för inbjudan
URL:https://nynok.se/event/ungdomsserien-kretstavling-2/
CATEGORIES:Tävling,Ungdom
END:VEVENT
BEGIN:VEVENT
DTSTART;TZID=Europe/Stockholm:20260525T180000
DTEND;TZID=Europe/Stockholm:20260525T180000
DTSTAMP:20260419T152654
CREATED:20260225T080004Z
LAST-MODIFIED:20260225T081950Z
UID:2700-1779732000-1779732000@nynok.se
SUMMARY:Klubbträning\, preliminärt Källberga
DESCRIPTION:
URL:https://nynok.se/event/klubbtraning-preliminart-kallberga/
CATEGORIES:Klubbträning
END:VEVENT
BEGIN:VEVENT
DTSTART;TZID=Europe/Stockholm:20260527T180000
DTEND;TZID=Europe/Stockholm:20260527T180000
DTSTAMP:20260419T152654
CREATED:20260225T080112Z
LAST-MODIFIED:20260225T082023Z
UID:2703-1779904800-1779904800@nynok.se
SUMMARY:Ungdomsträning\, sprint Backlura
DESCRIPTION:Samling vid tågstation Nynäs gård.
URL:https://nynok.se/event/ungdomstraning-sprint-backlura/
CATEGORIES:Ungdom
END:VEVENT
END:VCALENDAR