BEGIN:VCALENDAR
VERSION:2.0
PRODID:-//Nynäshamns OK - ECPv6.15.20//NONSGML v1.0//EN
CALSCALE:GREGORIAN
METHOD:PUBLISH
X-ORIGINAL-URL:https://nynok.se
X-WR-CALDESC:Händelser för Nynäshamns OK
REFRESH-INTERVAL;VALUE=DURATION:PT1H
X-Robots-Tag:noindex
X-PUBLISHED-TTL:PT1H
BEGIN:VTIMEZONE
TZID:Europe/Stockholm
BEGIN:DAYLIGHT
TZOFFSETFROM:+0100
TZOFFSETTO:+0200
TZNAME:CEST
DTSTART:20250330T010000
END:DAYLIGHT
BEGIN:STANDARD
TZOFFSETFROM:+0200
TZOFFSETTO:+0100
TZNAME:CET
DTSTART:20251026T010000
END:STANDARD
BEGIN:DAYLIGHT
TZOFFSETFROM:+0100
TZOFFSETTO:+0200
TZNAME:CEST
DTSTART:20260329T010000
END:DAYLIGHT
BEGIN:STANDARD
TZOFFSETFROM:+0200
TZOFFSETTO:+0100
TZNAME:CET
DTSTART:20261025T010000
END:STANDARD
BEGIN:DAYLIGHT
TZOFFSETFROM:+0100
TZOFFSETTO:+0200
TZNAME:CEST
DTSTART:20270328T010000
END:DAYLIGHT
BEGIN:STANDARD
TZOFFSETFROM:+0200
TZOFFSETTO:+0100
TZNAME:CET
DTSTART:20271031T010000
END:STANDARD
END:VTIMEZONE
BEGIN:VEVENT
DTSTART;TZID=Europe/Stockholm:20260601T180000
DTEND;TZID=Europe/Stockholm:20260601T180000
DTSTAMP:20260419T165758
CREATED:20260225T080207Z
LAST-MODIFIED:20260225T082048Z
UID:2705-1780336800-1780336800@nynok.se
SUMMARY:Motionsträning\, preliminärt Lövhagen
DESCRIPTION:
URL:https://nynok.se/event/motionstraning-preliminart-lovhagen/
CATEGORIES:Klubbträning
END:VEVENT
BEGIN:VEVENT
DTSTART;TZID=Europe/Stockholm:20260603T180000
DTEND;TZID=Europe/Stockholm:20260603T180000
DTSTAMP:20260419T165758
CREATED:20260225T082540Z
LAST-MODIFIED:20260225T082655Z
UID:2709-1780509600-1780509600@nynok.se
SUMMARY:Sprint-DM
DESCRIPTION:Sprint-DM\, Kärrtorp. \nSe Eventor
URL:https://nynok.se/event/sprint-dm/
CATEGORIES:Tävling,Ungdom
END:VEVENT
BEGIN:VEVENT
DTSTART;TZID=Europe/Stockholm:20260606T100000
DTEND;TZID=Europe/Stockholm:20260607T170000
DTSTAMP:20260419T165758
CREATED:20260225T124429Z
LAST-MODIFIED:20260225T124429Z
UID:2730-1780740000-1780851600@nynok.se
SUMMARY:StOF:s sommarläger
DESCRIPTION:Se Eventor för info.
URL:https://nynok.se/event/stofs-sommarlager-3/
CATEGORIES:Ungdom
END:VEVENT
BEGIN:VEVENT
DTSTART;TZID=Europe/Stockholm:20260608T180000
DTEND;TZID=Europe/Stockholm:20260608T180000
DTSTAMP:20260419T165758
CREATED:20260225T122609Z
LAST-MODIFIED:20260225T123210Z
UID:2712-1780941600-1780941600@nynok.se
SUMMARY:Motionsträning Lövhagen
DESCRIPTION:
URL:https://nynok.se/event/motionstraning-lovhagen-2/
CATEGORIES:Klubbträning
END:VEVENT
BEGIN:VEVENT
DTSTART;TZID=Europe/Stockholm:20260610T180000
DTEND;TZID=Europe/Stockholm:20260610T180000
DTSTAMP:20260419T165758
CREATED:20260225T122732Z
LAST-MODIFIED:20260225T123145Z
UID:2714-1781114400-1781114400@nynok.se
SUMMARY:Ungdomsträning Eneby
DESCRIPTION:Samling vid parkering längs grusvägen mot Motorbanan
URL:https://nynok.se/event/ungdomstraning-eneby-2/
CATEGORIES:Ungdom
END:VEVENT
BEGIN:VEVENT
DTSTART;TZID=Europe/Stockholm:20260615T180000
DTEND;TZID=Europe/Stockholm:20260615T180000
DTSTAMP:20260419T165758
CREATED:20260225T122855Z
LAST-MODIFIED:20260225T123124Z
UID:2716-1781546400-1781546400@nynok.se
SUMMARY:Motionsträning
DESCRIPTION:
URL:https://nynok.se/event/motionstraning-5/
CATEGORIES:Klubbträning
END:VEVENT
BEGIN:VEVENT
DTSTART;TZID=Europe/Stockholm:20260617T180000
DTEND;TZID=Europe/Stockholm:20260617T180000
DTSTAMP:20260419T165758
CREATED:20260225T123001Z
LAST-MODIFIED:20260225T123058Z
UID:2718-1781719200-1781719200@nynok.se
SUMMARY:Ungdomsträning\, avslutning. Lövhagen
DESCRIPTION:
URL:https://nynok.se/event/ungdomstraning-avslutning-lovhagen/
CATEGORIES:Ungdom
END:VEVENT
END:VCALENDAR